BEGIN:VCALENDAR
VERSION:2.0
PRODID:
BEGIN:VEVENT
DTSTAMP:20260420T140352Z
UID:c357d5b34c82f2fed98013c3ddc418e7@infopro-digital.com
DTSTART;TZID=Europe/Paris:20260414T000000
DTEND;TZID=Europe/Paris:20260415T000000

SUMMARY:LUXE PACK Shanghai
DESCRIPTION:LUXE PACK SHANGHAI, The premier show for creative packaging
LOCATION:SHANGHAI EXHIBITION CENTER
END:VEVENT
END:VCALENDAR